BEGIN:VCALENDAR
VERSION:2.0
PRODID:-//https://mail.radiomemory.gr///NONSGML kigkonsult.se iCalcreator 2.10.15//
METHOD:PUBLISH
BEGIN:VEVENT
UID:20260422T095642UTC-7282EuXiZF@https://mail.radiomemory.gr/
DTSTAMP:20260422T095642Z
DESCRIPTION: https://mail.radiomemory.gr/events/imerologio-ekdiloseon/event
 /1869-8os-imimarathonios-sperxeioy
DTSTART:20250322T160000Z
DTEND:20250323T120000Z
LOCATION:Σπερχειάδα Φθιώτιδας (Ευζώνων\, Σπερχειάδα 350 03\, Ελλάδα)
SUMMARY:8ος Ημιμαραθώνιος Σπερχειού
URL:https://mail.radiomemory.gr/events/imerologio-ekdiloseon/event/1869-8os
 -imimarathonios-sperxeioy
END:VEVENT
END:VCALENDAR
