BEGIN:VCALENDAR
VERSION:2.0
PRODID:-//https://mail.radiomemory.gr///NONSGML kigkonsult.se iCalcreator 2.10.15//
METHOD:PUBLISH
BEGIN:VEVENT
UID:20260422T100519UTC-8303dGagUs@https://mail.radiomemory.gr/
DTSTAMP:20260422T100519Z
DESCRIPTION: https://mail.radiomemory.gr/events/imerologio-ekdiloseon/event
 /1884-diakeia-2025-texni-poiisi-istoria-ymnoi-ston-athanasio-diako
DTSTART:20250427T170000Z
DTEND:20250427T200000Z
LOCATION:Πλατεία Διάκου (Πλατεία Πάρκου 19\, Λαμία 351 00\, Ελλάδα)
SUMMARY:Διάκεια 2025: «Τέχνη\, Ποίηση\, Ιστορία\, Ύμνοι στον Αθανάσιο Διάκο
 »
URL:https://mail.radiomemory.gr/events/imerologio-ekdiloseon/event/1884-dia
 keia-2025-texni-poiisi-istoria-ymnoi-ston-athanasio-diako
END:VEVENT
END:VCALENDAR
