BEGIN:VCALENDAR
VERSION:2.0
PRODID:-//https://mail.radiomemory.gr///NONSGML kigkonsult.se iCalcreator 2.10.15//
METHOD:PUBLISH
BEGIN:VEVENT
UID:20260422T100533UTC-11605o3uBJ@https://mail.radiomemory.gr/
DTSTAMP:20260422T100533Z
DESCRIPTION: https://mail.radiomemory.gr/events/imerologio-ekdiloseon/event
 /1885-enimerotiki-ekdilosi-me-thema-v2v-poliseis-eksagoges-kai-kainotomia
DTSTART:20250519T143000Z
DTEND:20250519T180000Z
LOCATION:Αμφιθέατρο Κτιρίου ΔΕΥΑΛ (Ανδρέα Παπανδρέου & Τάσου Ισαάκ\, Λαμία 
 351 00\, Ελλάδα)
SUMMARY:Ενημερωτική Εκδήλωση με θέμα: «Β2Β Πωλήσεις\, Εξαγωγές και Καινοτομ
 ία»
URL:https://mail.radiomemory.gr/events/imerologio-ekdiloseon/event/1885-eni
 merotiki-ekdilosi-me-thema-v2v-poliseis-eksagoges-kai-kainotomia
END:VEVENT
END:VCALENDAR
