BEGIN:VCALENDAR
VERSION:2.0
PRODID:-//https://mail.radiomemory.gr///NONSGML kigkonsult.se iCalcreator 2.10.15//
METHOD:PUBLISH
BEGIN:VEVENT
UID:20260422T095826UTC-8768bti3XV@https://mail.radiomemory.gr/
DTSTAMP:20260422T095826Z
DESCRIPTION: https://mail.radiomemory.gr/events/imerologio-ekdiloseon/event
 /1886-pame-pazari-pame-domoko
DTSTART:20250525T060000Z
DTEND:20250525T180000Z
LOCATION:Δομοκός Φθιώτιδας (Unnamed Road\, Δομοκός 350 10\, Ελλάδα)
SUMMARY:Πάμε Παζάρι Πάμε Δομοκό
URL:https://mail.radiomemory.gr/events/imerologio-ekdiloseon/event/1886-pam
 e-pazari-pame-domoko
END:VEVENT
END:VCALENDAR
