BEGIN:VCALENDAR
VERSION:2.0
PRODID:-//https://mail.radiomemory.gr///NONSGML kigkonsult.se iCalcreator 2.10.15//
METHOD:PUBLISH
BEGIN:VEVENT
UID:20260422T095821UTC-2790OzL7VX@https://mail.radiomemory.gr/
DTSTAMP:20260422T095821Z
DESCRIPTION: https://mail.radiomemory.gr/events/imerologio-ekdiloseon/event
 /1887-pagkosmia-imera-nosilefti
DTSTART:20250510T070000Z
DTEND:20250510T090000Z
LOCATION:Πλατεία Ελευθερίας\, Λαμία (Πλατεία Ελευθερίας\, Λαμία)
SUMMARY:Παγκόσμια Ημέρα Νοσηλευτή
URL:https://mail.radiomemory.gr/events/imerologio-ekdiloseon/event/1887-pag
 kosmia-imera-nosilefti
END:VEVENT
END:VCALENDAR
