BEGIN:VCALENDAR
VERSION:2.0
PRODID:-//https://mail.radiomemory.gr///NONSGML kigkonsult.se iCalcreator 2.10.15//
METHOD:PUBLISH
BEGIN:VEVENT
UID:20260422T095939UTC-1321EFv8eV@https://mail.radiomemory.gr/
DTSTAMP:20260422T095939Z
DESCRIPTION: https://mail.radiomemory.gr/events/imerologio-ekdiloseon/event
 /1888-pagkosmia-imera-melanomatos
DTSTART:20250514T060000Z
DTEND:20250514T120000Z
LOCATION:Λέσχη Αξιωματικών Φρουράς Λαμίας (Ρήγα Φεραίου 8\, Λαμία 351 00\, 
 Ελλάδα)
SUMMARY:Παγκόσμια Ημέρα Μελανώματος
URL:https://mail.radiomemory.gr/events/imerologio-ekdiloseon/event/1888-pag
 kosmia-imera-melanomatos
END:VEVENT
END:VCALENDAR
