BEGIN:VCALENDAR
VERSION:2.0
PRODID:-//https://mail.radiomemory.gr///NONSGML kigkonsult.se iCalcreator 2.10.15//
METHOD:PUBLISH
BEGIN:VEVENT
UID:20260422T100011UTC-486020B95G@https://mail.radiomemory.gr/
DTSTAMP:20260422T100011Z
DESCRIPTION: https://mail.radiomemory.gr/events/imerologio-ekdiloseon/event
 /1889-final-four-panellinion-sxolikon-agonon-podosfairou
DTSTART:20250513T063000Z
DTEND:20250514T120000Z
LOCATION:Καλύβια (Ευθυμίου\, Λαμία 351 00\, Ελλάδα)
SUMMARY:Final Four Πανελλήνιων Σχολικών Αγώνων Ποδοσφαίρου
URL:https://mail.radiomemory.gr/events/imerologio-ekdiloseon/event/1889-fin
 al-four-panellinion-sxolikon-agonon-podosfairou
END:VEVENT
END:VCALENDAR
