BEGIN:VCALENDAR
VERSION:2.0
PRODID:-//https://mail.radiomemory.gr///NONSGML kigkonsult.se iCalcreator 2.10.15//
METHOD:PUBLISH
BEGIN:VEVENT
UID:20260422T100128UTC-7900JRutsd@https://mail.radiomemory.gr/
DTSTAMP:20260422T100128Z
DESCRIPTION: https://mail.radiomemory.gr/events/imerologio-ekdiloseon/event
 /1890-1o-tournoua-podosfairou-i-ath-gravvanis
DTSTART:20250525T070000Z
DTEND:20250525T120000Z
LOCATION:Δομοκός Φθιώτιδας (Unnamed Road\, Δομοκός 350 10\, Ελλάδα)
SUMMARY:1ο Τουρνουά Ποδοσφαίρου 'Ι. Αθ. Γραββάνης'
URL:https://mail.radiomemory.gr/events/imerologio-ekdiloseon/event/1890-1o-
 tournoua-podosfairou-i-ath-gravvanis
END:VEVENT
END:VCALENDAR
