BEGIN:VCALENDAR
VERSION:2.0
PRODID:-//https://mail.radiomemory.gr///NONSGML kigkonsult.se iCalcreator 2.10.15//
METHOD:PUBLISH
BEGIN:VEVENT
UID:20260422T100349UTC-0892ZsoLHp@https://mail.radiomemory.gr/
DTSTAMP:20260422T100349Z
DESCRIPTION: https://mail.radiomemory.gr/events/imerologio-ekdiloseon/event
 /1892-kalokairi-politismoy-2025-dimos-makrakomis
DTSTART:20250629T060000Z
DTEND:20250629T200000Z
LOCATION:Μακρακώμη Φθιώτιδας (E952\, Μακρακώμη 350 11\, Ελλάδα)
SUMMARY:Καλοκαίρι Πολιτισμού 2025 – Δήμος Μακρακώμης
URL:https://mail.radiomemory.gr/events/imerologio-ekdiloseon/event/1892-kal
 okairi-politismoy-2025-dimos-makrakomis
END:VEVENT
END:VCALENDAR
