BEGIN:VCALENDAR
VERSION:2.0
PRODID:-//https://mail.radiomemory.gr///NONSGML kigkonsult.se iCalcreator 2.10.15//
METHOD:PUBLISH
BEGIN:VEVENT
UID:20260422T100011UTC-7879p3jbT3@https://mail.radiomemory.gr/
DTSTAMP:20260422T100011Z
DESCRIPTION: https://mail.radiomemory.gr/events/imerologio-ekdiloseon/event
 /1893-synavlia-mousiki-parastasi-odi-iroon
DTSTART:20250614T173000Z
DTEND:20250614T203000Z
LOCATION:Υπάτη  (Επαρ.Οδ. Μακρακώμης - Υπάτης\, Λαμία 350 16\, Ελλάδα)
SUMMARY:Συναυλία - Μουσική Παράσταση 'ΩΔΗ ΗΡΩΩΝ'
URL:https://mail.radiomemory.gr/events/imerologio-ekdiloseon/event/1893-syn
 avlia-mousiki-parastasi-odi-iroon
END:VEVENT
END:VCALENDAR
