BEGIN:VCALENDAR
VERSION:2.0
PRODID:-//https://mail.radiomemory.gr///NONSGML kigkonsult.se iCalcreator 2.10.15//
METHOD:PUBLISH
BEGIN:VEVENT
UID:20260422T100150UTC-30730V3ibf@https://mail.radiomemory.gr/
DTSTAMP:20260422T100150Z
DESCRIPTION: https://mail.radiomemory.gr/events/imerologio-ekdiloseon/event
 /1894-parastasi-san-palio-sinema-kdap-kai-dipethe-roymelis
DTSTART:20250616T173000Z
DTEND:20250616T200000Z
LOCATION:Θερινο Δημοτικο Θεατρο Λαμιας (Υψηλάντου 47\, Λαμία 351 00\, Ελλάδ
 α)
SUMMARY:Παράσταση «Σαν παλιό σινεμά»: ΚΔΑΠ και ΔΗΠΕΘΕ Ρούμελης
URL:https://mail.radiomemory.gr/events/imerologio-ekdiloseon/event/1894-par
 astasi-san-palio-sinema-kdap-kai-dipethe-roymelis
END:VEVENT
END:VCALENDAR
