BEGIN:VCALENDAR
VERSION:2.0
PRODID:-//https://mail.radiomemory.gr///NONSGML kigkonsult.se iCalcreator 2.10.15//
METHOD:PUBLISH
BEGIN:VEVENT
UID:20260422T100838UTC-4837SIH16u@https://mail.radiomemory.gr/
DTSTAMP:20260422T100838Z
DESCRIPTION: https://mail.radiomemory.gr/events/imerologio-ekdiloseon/event
 /1895-enimerotiki-ekdilosi-ependyse-sti-metapoiisi-emporia-anaptyksi-georg
 ikon-proionton
DTSTART:20250618T153000Z
DTEND:20250618T190000Z
LOCATION:Κωνσταντίνειο Πνευματικό Κέντρο (Επισκόπου Νεοφύτου Μεταξά 13\, Ατ
 αλάντη)
SUMMARY:Ενημερωτική Εκδήλωση «Επένδυσε στη Μεταποίηση/εμπορία & ανάπτυξη γε
 ωργικών προϊόντων»
URL:https://mail.radiomemory.gr/events/imerologio-ekdiloseon/event/1895-eni
 merotiki-ekdilosi-ependyse-sti-metapoiisi-emporia-anaptyksi-georgikon-proi
 onton
END:VEVENT
END:VCALENDAR
