BEGIN:VCALENDAR
VERSION:2.0
PRODID:-//https://mail.radiomemory.gr///NONSGML kigkonsult.se iCalcreator 2.10.15//
METHOD:PUBLISH
BEGIN:VEVENT
UID:20260422T100519UTC-6174bX1eaz@https://mail.radiomemory.gr/
DTSTAMP:20260422T100519Z
DESCRIPTION: https://mail.radiomemory.gr/events/imerologio-ekdiloseon/event
 /1896-di-pe-the-roymelis-leventis-cooperation-apo-to-theatriko-ergastiri-g
 ia-paidia
DTSTART:20250615T171500Z
DTEND:20250615T200000Z
LOCATION:Θερινο Δημοτικο Θεατρο Λαμιας (Υψηλάντου 47\, Λαμία 351 00\, Ελλάδ
 α)
SUMMARY:ΔΗ.ΠΕ.ΘΕ. Ρούμελης: «Λεβέντης Cooperation» από το Θεατρικό Εργαστήρ
 ι για παιδιά
URL:https://mail.radiomemory.gr/events/imerologio-ekdiloseon/event/1896-di-
 pe-the-roymelis-leventis-cooperation-apo-to-theatriko-ergastiri-gia-paidia
END:VEVENT
END:VCALENDAR
