BEGIN:VCALENDAR
VERSION:2.0
PRODID:-//https://mail.radiomemory.gr///NONSGML kigkonsult.se iCalcreator 2.10.15//
METHOD:PUBLISH
BEGIN:VEVENT
UID:20260422T100011UTC-2649m6eRFL@https://mail.radiomemory.gr/
DTSTAMP:20260422T100011Z
DESCRIPTION: https://mail.radiomemory.gr/events/imerologio-ekdiloseon/event
 /1899-afieroma-ston-elliniko-kinimatografo
DTSTART:20250619T180000Z
DTEND:20250619T200000Z
LOCATION:Σπερχειάδα Φθιώτιδας (Ευζώνων\, Σπερχειάδα 350 03\, Ελλάδα)
SUMMARY:Αφιέρωμα στον Ελληνικό Κινηματογράφο
URL:https://mail.radiomemory.gr/events/imerologio-ekdiloseon/event/1899-afi
 eroma-ston-elliniko-kinimatografo
END:VEVENT
END:VCALENDAR
