BEGIN:VCALENDAR
VERSION:2.0
PRODID:-//https://mail.radiomemory.gr///NONSGML kigkonsult.se iCalcreator 2.10.15//
METHOD:PUBLISH
BEGIN:VEVENT
UID:20260422T100327UTC-4086C7FgBs@https://mail.radiomemory.gr/
DTSTAMP:20260422T100327Z
DESCRIPTION: https://mail.radiomemory.gr/events/imerologio-ekdiloseon/event
 /1900-kalokairines-melodies-pagkosmia-imera-mousikis
DTSTART:20250619T163000Z
DTEND:20250619T200000Z
LOCATION:Δημοτικό ωδείο Λαμίας (Διοβουνιωτού\, Λαμία 351 00\, Ελλάδα)
SUMMARY:Καλοκαιρινές Μελωδίες: Παγκόσμια Ημέρα Μουσικής
URL:https://mail.radiomemory.gr/events/imerologio-ekdiloseon/event/1900-kal
 okairines-melodies-pagkosmia-imera-mousikis
END:VEVENT
END:VCALENDAR
