BEGIN:VCALENDAR
VERSION:2.0
PRODID:-//https://mail.radiomemory.gr///NONSGML kigkonsult.se iCalcreator 2.10.15//
METHOD:PUBLISH
BEGIN:VEVENT
UID:20260422T100520UTC-82701zIdvZ@https://mail.radiomemory.gr/
DTSTAMP:20260422T100520Z
DESCRIPTION: https://mail.radiomemory.gr/events/imerologio-ekdiloseon/event
 /1903-panellinio-kypello-greek-national-brazilian-jiu-jitsu-cup-2025
DTSTART:20250622T070000Z
DTEND:20250622T170000Z
LOCATION:Χαλκιοπούλειο (Αγράφων\, Λαμία 351 00\, Ελλάδα)
SUMMARY:Πανελλήνιο Κύπελλο Greek National Brazilian Jiu Jitsu Cup 2025
URL:https://mail.radiomemory.gr/events/imerologio-ekdiloseon/event/1903-pan
 ellinio-kypello-greek-national-brazilian-jiu-jitsu-cup-2025
END:VEVENT
END:VCALENDAR
