BEGIN:VCALENDAR
VERSION:2.0
PRODID:-//https://mail.radiomemory.gr///NONSGML kigkonsult.se iCalcreator 2.10.15//
METHOD:PUBLISH
BEGIN:VEVENT
UID:20260422T100011UTC-9205CFNvGv@https://mail.radiomemory.gr/
DTSTAMP:20260422T100011Z
DESCRIPTION: https://mail.radiomemory.gr/events/imerologio-ekdiloseon/event
 /1909-thriskeftiki-panigyris-agias-paraskevis
DTSTART:20250726T180000Z
DTEND:20250726T205500Z
LOCATION:Πλατύστομο Μακρακώμης (Πλατύστομο)
SUMMARY:Θρησκευτική Πανήγυρις Αγίας Παρασκευής
URL:https://mail.radiomemory.gr/events/imerologio-ekdiloseon/event/1909-thr
 iskeftiki-panigyris-agias-paraskevis
END:VEVENT
END:VCALENDAR
