BEGIN:VCALENDAR
VERSION:2.0
PRODID:-//https://mail.radiomemory.gr///NONSGML kigkonsult.se iCalcreator 2.10.15//
METHOD:PUBLISH
BEGIN:VEVENT
UID:20260422T095739UTC-5888rbm9Ur@https://mail.radiomemory.gr/
DTSTAMP:20260422T095739Z
DESCRIPTION: https://mail.radiomemory.gr/events/imerologio-ekdiloseon/event
 /1910-thriskeftiki-panigyris
DTSTART:20250726T180000Z
DTEND:20250726T205555Z
LOCATION:Αργύρια Φθιώτιδας ()
SUMMARY:Θρησκευτική Πανήγυρις
URL:https://mail.radiomemory.gr/events/imerologio-ekdiloseon/event/1910-thr
 iskeftiki-panigyris
END:VEVENT
END:VCALENDAR
