BEGIN:VCALENDAR
VERSION:2.0
PRODID:-//https://mail.radiomemory.gr///NONSGML kigkonsult.se iCalcreator 2.10.15//
METHOD:PUBLISH
BEGIN:VEVENT
UID:20260422T095821UTC-01728oHesR@https://mail.radiomemory.gr/
DTSTAMP:20260422T095821Z
DESCRIPTION: https://mail.radiomemory.gr/events/imerologio-ekdiloseon/event
 /1912-astroperpatimata-2025-ston-dimo-domokoy
DTSTART:20250803T180000Z
DTEND:20250803T200000Z
LOCATION:Δομοκός Φθιώτιδας (Unnamed Road\, Δομοκός 350 10\, Ελλάδα)
SUMMARY:Αστροπερπατήματα 2025 στον Δήμο Δομοκού 
URL:https://mail.radiomemory.gr/events/imerologio-ekdiloseon/event/1912-ast
 roperpatimata-2025-ston-dimo-domokoy
END:VEVENT
END:VCALENDAR
