BEGIN:VCALENDAR
VERSION:2.0
PRODID:-//https://mail.radiomemory.gr///NONSGML kigkonsult.se iCalcreator 2.10.15//
METHOD:PUBLISH
BEGIN:VEVENT
UID:20260422T100150UTC-2771h2uvId@https://mail.radiomemory.gr/
DTSTAMP:20260422T100150Z
DESCRIPTION: https://mail.radiomemory.gr/events/imerologio-ekdiloseon/event
 /1914-mousiki-ekdilosi-mnimeia-stin-panselino
DTSTART:20250809T180000Z
DTEND:20250809T203000Z
LOCATION:Νέο Μοναστήρι Δομοκού ()
SUMMARY:Μουσική Εκδήλωση 'Μνημεία στην Πανσέληνο'
URL:https://mail.radiomemory.gr/events/imerologio-ekdiloseon/event/1914-mou
 siki-ekdilosi-mnimeia-stin-panselino
END:VEVENT
END:VCALENDAR
