BEGIN:VCALENDAR
VERSION:2.0
PRODID:-//https://mail.radiomemory.gr///NONSGML kigkonsult.se iCalcreator 2.10.15//
METHOD:PUBLISH
BEGIN:VEVENT
UID:20260422T095938UTC-0190dtV5EV@https://mail.radiomemory.gr/
DTSTAMP:20260422T095938Z
DESCRIPTION: https://mail.radiomemory.gr/events/imerologio-ekdiloseon/event
 /1918-imerida-enimerosis-elaiotriveon-kai-elaioparagogon
DTSTART:20250913T070000Z
DTEND:20250913T110000Z
LOCATION:Αμφιθέατρο Κτιρίου ΔΕΥΑΛ (Ανδρέα Παπανδρέου & Τάσου Ισαάκ\, Λαμία 
 351 00\, Ελλάδα)
SUMMARY:Ημερίδα Ενημέρωσης Ελαιοτριβέων και Ελαιοπαραγωγών
URL:https://mail.radiomemory.gr/events/imerologio-ekdiloseon/event/1918-ime
 rida-enimerosis-elaiotriveon-kai-elaioparagogon
END:VEVENT
END:VCALENDAR
