BEGIN:VCALENDAR
VERSION:2.0
PRODID:-//https://mail.radiomemory.gr///NONSGML kigkonsult.se iCalcreator 2.10.15//
METHOD:PUBLISH
BEGIN:VEVENT
UID:20260422T095739UTC-1059M3UMkz@https://mail.radiomemory.gr/
DTSTAMP:20260422T095739Z
DESCRIPTION: https://mail.radiomemory.gr/events/imerologio-ekdiloseon/event
 /1919-giorti-krasioy-2025
DTSTART:20250920T173000Z
DTEND:20250920T203000Z
LOCATION:Αταλάντη (Νικολάου Αβραάμ\, Αταλάντη 352 00\, Ελλάδα)
SUMMARY:Γιορτή Κρασιού 2025
URL:https://mail.radiomemory.gr/events/imerologio-ekdiloseon/event/1919-gio
 rti-krasioy-2025
END:VEVENT
END:VCALENDAR
