BEGIN:VCALENDAR
VERSION:2.0
PRODID:-//https://mail.radiomemory.gr///NONSGML kigkonsult.se iCalcreator 2.10.15//
METHOD:PUBLISH
BEGIN:VEVENT
UID:20260422T100350UTC-0824XkaEvS@https://mail.radiomemory.gr/
DTSTAMP:20260422T100350Z
DESCRIPTION: https://mail.radiomemory.gr/events/imerologio-ekdiloseon/event
 /1921-enimerotiki-hmerida-me-thema-dorea-organon-metamosxefseis
DTSTART:20250927T160000Z
DTEND:20250927T180000Z
LOCATION:Αμφιθέατρο Πνευματικού & Διοικητικού Κέντρου Ιεράς Μητροπόλεως Φθι
 ώτιδος ()
SUMMARY:Eνημερωτική Hμερίδα με θέμα: 'ΔΩΡΕΑ ΟΡΓΑΝΩΝ & ΜΕΤΑΜΟΣΧΕΥΣΕΙΣ'
URL:https://mail.radiomemory.gr/events/imerologio-ekdiloseon/event/1921-eni
 merotiki-hmerida-me-thema-dorea-organon-metamosxefseis
END:VEVENT
END:VCALENDAR
