BEGIN:VCALENDAR
VERSION:2.0
PRODID:-//https://mail.radiomemory.gr///NONSGML kigkonsult.se iCalcreator 2.10.15//
METHOD:PUBLISH
BEGIN:VEVENT
UID:20260422T095959UTC-2990lSpobO@https://mail.radiomemory.gr/
DTSTAMP:20260422T095959Z
DESCRIPTION: https://mail.radiomemory.gr/events/imerologio-ekdiloseon/event
 /1922-3i-panelladiki-sxoliki-skytalodromia
DTSTART:20250926T060000Z
DTEND:20250926T090000Z
LOCATION:Δομοκός Φθιώτιδας (Unnamed Road\, Δομοκός 350 10\, Ελλάδα)
SUMMARY:3η Πανελλαδική Σχολική Σκυταλοδρομία 
URL:https://mail.radiomemory.gr/events/imerologio-ekdiloseon/event/1922-3i-
 panelladiki-sxoliki-skytalodromia
END:VEVENT
END:VCALENDAR
