BEGIN:VCALENDAR
VERSION:2.0
PRODID:-//https://mail.radiomemory.gr///NONSGML kigkonsult.se iCalcreator 2.10.15//
METHOD:PUBLISH
BEGIN:VEVENT
UID:20260422T100527UTC-1590Lu82WR@https://mail.radiomemory.gr/
DTSTAMP:20260422T100527Z
DESCRIPTION: https://mail.radiomemory.gr/events/imerologio-ekdiloseon/event
 /1925-gastronomiki-kai-politistiki-ekdilosi-kouzines-tou-kosmou
DTSTART:20251004T163000Z
DTEND:20251004T200000Z
LOCATION:Δομοκός Φθιώτιδας (Unnamed Road\, Δομοκός 350 10\, Ελλάδα)
SUMMARY:Γαστρονομική και Πολιτιστική Εκδήλωση 'Κουζίνες του Κόσμου'
URL:https://mail.radiomemory.gr/events/imerologio-ekdiloseon/event/1925-gas
 tronomiki-kai-politistiki-ekdilosi-kouzines-tou-kosmou
END:VEVENT
END:VCALENDAR
