BEGIN:VCALENDAR
VERSION:2.0
PRODID:-//https://mail.radiomemory.gr///NONSGML kigkonsult.se iCalcreator 2.10.15//
METHOD:PUBLISH
BEGIN:VEVENT
UID:20260422T100525UTC-7844CS3wGW@https://mail.radiomemory.gr/
DTSTAMP:20260422T100525Z
DESCRIPTION: https://mail.radiomemory.gr/events/imerologio-ekdiloseon/event
 /1926-i-mousiki-os-farmako-gefyres-iatrikis-texnis
DTSTART:20251004T163000Z
DTEND:20251004T200000Z
LOCATION:Δημοτικό ωδείο Λαμίας (Διοβουνιωτού\, Λαμία 351 00\, Ελλάδα)
SUMMARY:«Η μουσική ως φάρμακο - Γέφυρες Ιατρικής & Τέχνης»
URL:https://mail.radiomemory.gr/events/imerologio-ekdiloseon/event/1926-i-m
 ousiki-os-farmako-gefyres-iatrikis-texnis
END:VEVENT
END:VCALENDAR
