BEGIN:VCALENDAR
VERSION:2.0
PRODID:-//https://mail.radiomemory.gr///NONSGML kigkonsult.se iCalcreator 2.10.15//
METHOD:PUBLISH
BEGIN:VEVENT
UID:20260422T095810UTC-9182AwcOT1@https://mail.radiomemory.gr/
DTSTAMP:20260422T095810Z
DESCRIPTION: https://mail.radiomemory.gr/events/imerologio-ekdiloseon/event
 /1928-giorti-poulion-2025
DTSTART:20251012T070000Z
DTEND:20251012T110000Z
LOCATION:Ανθήλη (Unnamed Road\, Ανθήλη 351 00\, Ελλάδα)
SUMMARY:Γιορτή πουλιών 2025
URL:https://mail.radiomemory.gr/events/imerologio-ekdiloseon/event/1928-gio
 rti-poulion-2025
END:VEVENT
END:VCALENDAR
