BEGIN:VCALENDAR
VERSION:2.0
PRODID:-//https://mail.radiomemory.gr///NONSGML kigkonsult.se iCalcreator 2.10.15//
METHOD:PUBLISH
BEGIN:VEVENT
UID:20260422T100500UTC-2326rvxvcW@https://mail.radiomemory.gr/
DTSTAMP:20260422T100500Z
DESCRIPTION: https://mail.radiomemory.gr/events/imerologio-ekdiloseon/event
 /1930-synavlia-klasikis-kai-italikis-mousikis-me-to-duo-pignataro
DTSTART:20251025T170000Z
DTEND:20251025T200000Z
LOCATION:Δομοκός Φθιώτιδας (Unnamed Road\, Δομοκός 350 10\, Ελλάδα)
SUMMARY:Συναυλία Κλασικής και Ιταλικής Μουσικής με το 'Duo Pignataro' 
URL:https://mail.radiomemory.gr/events/imerologio-ekdiloseon/event/1930-syn
 avlia-klasikis-kai-italikis-mousikis-me-to-duo-pignataro
END:VEVENT
END:VCALENDAR
