BEGIN:VCALENDAR
VERSION:2.0
PRODID:-//https://mail.radiomemory.gr///NONSGML kigkonsult.se iCalcreator 2.10.15//
METHOD:PUBLISH
BEGIN:VEVENT
UID:20260422T095643UTC-07488IfcFG@https://mail.radiomemory.gr/
DTSTAMP:20260422T095643Z
DESCRIPTION: https://mail.radiomemory.gr/events/imerologio-ekdiloseon/event
 /1931-pazari-sperxeiadas
DTSTART:20251024T070000Z
DTEND:20251024T190000Z
LOCATION:Σπερχειάδα Φθιώτιδας (Ευζώνων\, Σπερχειάδα 350 03\, Ελλάδα)
SUMMARY:Παζάρι Σπερχειάδας
URL:https://mail.radiomemory.gr/events/imerologio-ekdiloseon/event/1931-paz
 ari-sperxeiadas
END:VEVENT
END:VCALENDAR
