BEGIN:VCALENDAR
VERSION:2.0
PRODID:-//https://mail.radiomemory.gr///NONSGML kigkonsult.se iCalcreator 2.10.15//
METHOD:PUBLISH
BEGIN:VEVENT
UID:20260422T095739UTC-3821O2tDgv@https://mail.radiomemory.gr/
DTSTAMP:20260422T095739Z
DESCRIPTION: https://mail.radiomemory.gr/events/imerologio-ekdiloseon/event
 /1932-16i-giorti-kastanou
DTSTART:20251026T090000Z
DTEND:20251026T170000Z
LOCATION:Μαυρίλο (Unnamed Road\, Ag. Georgios Timfristou 350 17\, Ελλάδα)
SUMMARY:16η Γιορτή Κάστανου
URL:https://mail.radiomemory.gr/events/imerologio-ekdiloseon/event/1932-16i
 -giorti-kastanou
END:VEVENT
END:VCALENDAR
