BEGIN:VCALENDAR
VERSION:2.0
PRODID:-//https://mail.radiomemory.gr///NONSGML kigkonsult.se iCalcreator 2.10.15//
METHOD:PUBLISH
BEGIN:VEVENT
UID:20260422T100214UTC-9441e38S2v@https://mail.radiomemory.gr/
DTSTAMP:20260422T100214Z
DESCRIPTION: https://mail.radiomemory.gr/events/imerologio-ekdiloseon/event
 /1933-12i-giorti-skakioy-mousikis-mathimatikon-kai-astronomias
DTSTART:20251123T073000Z
DTEND:20251123T110000Z
LOCATION:12 Δημοτικό σχολείο Λαμίας (Αμπλιανίτη 31\, Λαμία 351 00\, Ελλάδα)
SUMMARY:12η Γιορτή Σκακιού\, Μουσικής\, Μαθηματικών και Αστρονομίας
URL:https://mail.radiomemory.gr/events/imerologio-ekdiloseon/event/1933-12i
 -giorti-skakioy-mousikis-mathimatikon-kai-astronomias
END:VEVENT
END:VCALENDAR
