BEGIN:VCALENDAR
VERSION:2.0
PRODID:-//https://mail.radiomemory.gr///NONSGML kigkonsult.se iCalcreator 2.10.15//
METHOD:PUBLISH
BEGIN:VEVENT
UID:20260422T100710UTC-6880EVhUmp@https://mail.radiomemory.gr/
DTSTAMP:20260422T100710Z
DESCRIPTION: https://mail.radiomemory.gr/events/imerologio-ekdiloseon/event
 /1934-imerida-me-thema-oi-simantikoteres-allages-pou-epiferei-o-n-5221-202
 5-ston-kpold
DTSTART:20251024T150000Z
DTEND:20251024T173000Z
LOCATION:Αμφιθέατρο Κτιρίου ΔΕΥΑΛ (Ανδρέα Παπανδρέου & Τάσου Ισαάκ\, Λαμία 
 351 00\, Ελλάδα)
SUMMARY:Ημερίδα με θέμα: 'ΟΙ ΣΗΜΑΝΤΙΚΟΤΕΡΕΣ ΑΛΛΑΓΕΣ ΠΟΥ ΕΠΙΦΕΡΕΙ Ο Ν.5221/2
 025 ΣΤΟΝ ΚΠΟΛΔ' 
URL:https://mail.radiomemory.gr/events/imerologio-ekdiloseon/event/1934-ime
 rida-me-thema-oi-simantikoteres-allages-pou-epiferei-o-n-5221-2025-ston-kp
 old
END:VEVENT
END:VCALENDAR
