BEGIN:VCALENDAR
VERSION:2.0
PRODID:-//https://mail.radiomemory.gr///NONSGML kigkonsult.se iCalcreator 2.10.15//
METHOD:PUBLISH
BEGIN:VEVENT
UID:20260422T100500UTC-4621pUvmrf@https://mail.radiomemory.gr/
DTSTAMP:20260422T100500Z
DESCRIPTION: https://mail.radiomemory.gr/events/imerologio-ekdiloseon/event
 /1935-1o-synedrio-emporikoy-syllogou-lamias
DTSTART:20251109T083000Z
DTEND:20251109T130000Z
LOCATION:Πνευματικό κέντρο Ιεράς Μητρόπολης Φθιώτιδας (Μεγ. Αλεξάνδρου 21\,
  Λαμία 351 00\, Ελλάδα)
SUMMARY:1ο Συνέδριο Εμπορικού Συλλόγου Λαμίας
URL:https://mail.radiomemory.gr/events/imerologio-ekdiloseon/event/1935-1o-
 synedrio-emporikoy-syllogou-lamias
END:VEVENT
END:VCALENDAR
