BEGIN:VCALENDAR
VERSION:2.0
PRODID:-//https://mail.radiomemory.gr///NONSGML kigkonsult.se iCalcreator 2.10.15//
METHOD:PUBLISH
BEGIN:VEVENT
UID:20260422T100134UTC-483777JMUZ@https://mail.radiomemory.gr/
DTSTAMP:20260422T100134Z
DESCRIPTION: https://mail.radiomemory.gr/events/imerologio-ekdiloseon/event
 /1936-enimerotiki-ekdilosi-mnimi-ygiis-giransi-mythoi-kai-alitheies
DTSTART:20251109T093000Z
DTEND:20251109T120000Z
LOCATION:Δομοκός Φθιώτιδας (Unnamed Road\, Δομοκός 350 10\, Ελλάδα)
SUMMARY:Ενημερωτική Εκδήλωση 'ΜΝΗΜΗ & ΥΓΙΗΣ ΓΗΡΑΝΣΗ: ΜΥΘΟΙ ΚΑΙ ΑΛΗΘΕΙΕΣ'
URL:https://mail.radiomemory.gr/events/imerologio-ekdiloseon/event/1936-eni
 merotiki-ekdilosi-mnimi-ygiis-giransi-mythoi-kai-alitheies
END:VEVENT
END:VCALENDAR
