BEGIN:VCALENDAR
VERSION:2.0
PRODID:-//https://mail.radiomemory.gr///NONSGML kigkonsult.se iCalcreator 2.10.15//
METHOD:PUBLISH
BEGIN:VEVENT
UID:20260422T100348UTC-6646IkVf25@https://mail.radiomemory.gr/
DTSTAMP:20260422T100348Z
DESCRIPTION: https://mail.radiomemory.gr/events/imerologio-ekdiloseon/event
 /1940-parousiasi-vivliou-kai-pateras-kai-mythos-grigoris-bithikotsis-1922-
 2005
DTSTART:20251121T160000Z
DTEND:20251121T190000Z
LOCATION:Δομοκός Φθιώτιδας (Unnamed Road\, Δομοκός 350 10\, Ελλάδα)
SUMMARY:Παρουσίαση βιβλίου:«Και πατέρας και μύθος – Γρηγόρης Μπιθικώτσης 19
 22-2005»
URL:https://mail.radiomemory.gr/events/imerologio-ekdiloseon/event/1940-par
 ousiasi-vivliou-kai-pateras-kai-mythos-grigoris-bithikotsis-1922-2005
END:VEVENT
END:VCALENDAR
