BEGIN:VCALENDAR
VERSION:2.0
PRODID:-//https://mail.radiomemory.gr///NONSGML kigkonsult.se iCalcreator 2.10.15//
METHOD:PUBLISH
BEGIN:VEVENT
UID:20260422T100837UTC-5193Xz1WPo@https://mail.radiomemory.gr/
DTSTAMP:20260422T100837Z
DESCRIPTION: https://mail.radiomemory.gr/events/imerologio-ekdiloseon/event
 /1941-ekdilosi-gia-tin-pagkosmia-imera-atomon-me-anapiria-to-paidi-me-ti-f
 oustanela
DTSTART:20251129T090000Z
DTEND:20251129T120000Z
LOCATION:Δομοκός Φθιώτιδας (Unnamed Road\, Δομοκός 350 10\, Ελλάδα)
SUMMARY:Εκδήλωση για την Παγκόσμια Ημέρα Ατόμων με Αναπηρία 'Το Παιδί με τη
  Φουστανέλα'
URL:https://mail.radiomemory.gr/events/imerologio-ekdiloseon/event/1941-ekd
 ilosi-gia-tin-pagkosmia-imera-atomon-me-anapiria-to-paidi-me-ti-foustanela
END:VEVENT
END:VCALENDAR
