BEGIN:VCALENDAR
VERSION:2.0
PRODID:-//https://mail.radiomemory.gr///NONSGML kigkonsult.se iCalcreator 2.10.15//
METHOD:PUBLISH
BEGIN:VEVENT
UID:20260422T095826UTC-5747HaK9vv@https://mail.radiomemory.gr/
DTSTAMP:20260422T095826Z
DESCRIPTION: https://mail.radiomemory.gr/events/imerologio-ekdiloseon/event
 /1942-anamma-xristougenniatikou-dentrou
DTSTART:20251208T190000Z
DTEND:20251208T210000Z
LOCATION:Πλατεία Πάρκου Λαμία (Πλατεία Πάρκου 19\, Λαμία 351 00\, Ελλάδα)
SUMMARY:Άναμμα Χριστουγεννιάτικου Δέντρου
URL:https://mail.radiomemory.gr/events/imerologio-ekdiloseon/event/1942-ana
 mma-xristougenniatikou-dentrou
END:VEVENT
END:VCALENDAR
