BEGIN:VCALENDAR
VERSION:2.0
PRODID:-//https://mail.radiomemory.gr///NONSGML kigkonsult.se iCalcreator 2.10.15//
METHOD:PUBLISH
BEGIN:VEVENT
UID:20260422T100215UTC-6507IskXWG@https://mail.radiomemory.gr/
DTSTAMP:20260422T100215Z
DESCRIPTION: https://mail.radiomemory.gr/events/imerologio-ekdiloseon/event
 /1944-seminario-aftoprostasias-kai-aftoamynas
DTSTART:20251129T093000Z
DTEND:20251129T110000Z
LOCATION:Αίθουσα 4ου Γυμνασίου Λαμίας (Παρδάλη\, Λαμία 351 00\, Ελλάδα)
SUMMARY:Σεμινάριο Αυτοπροστασίας και Αυτοάμυνας
URL:https://mail.radiomemory.gr/events/imerologio-ekdiloseon/event/1944-sem
 inario-aftoprostasias-kai-aftoamynas
END:VEVENT
END:VCALENDAR
