BEGIN:VCALENDAR
VERSION:2.0
PRODID:-//https://mail.radiomemory.gr///NONSGML kigkonsult.se iCalcreator 2.10.15//
METHOD:PUBLISH
BEGIN:VEVENT
UID:20260422T100215UTC-5763v2LxVW@https://mail.radiomemory.gr/
DTSTAMP:20260422T100215Z
DESCRIPTION: https://mail.radiomemory.gr/events/imerologio-ekdiloseon/event
 /1947-askisi-politikis-prostasias-noe-2025
DTSTART:20251210T090000Z
DTEND:20251210T110000Z
LOCATION:Ξηριάς Ροδίτσας ()
SUMMARY:Άσκηση Πολιτικής Προστασίας «ΝΩΕ 2025»
URL:https://mail.radiomemory.gr/events/imerologio-ekdiloseon/event/1947-ask
 isi-politikis-prostasias-noe-2025
END:VEVENT
END:VCALENDAR
