BEGIN:VCALENDAR
VERSION:2.0
PRODID:-//https://mail.radiomemory.gr///NONSGML kigkonsult.se iCalcreator 2.10.15//
METHOD:PUBLISH
BEGIN:VEVENT
UID:20260422T100328UTC-3044puSeh6@https://mail.radiomemory.gr/
DTSTAMP:20260422T100328Z
DESCRIPTION: https://mail.radiomemory.gr/events/imerologio-ekdiloseon/event
 /1948-askiseis-politikis-prostasias-pyrra-2025-kai-xeimerios-2025
DTSTART:20251215T073000Z
DTEND:20251215T110000Z
LOCATION:Δομοκός Φθιώτιδας (Unnamed Road\, Δομοκός 350 10\, Ελλάδα)
SUMMARY:Ασκήσεις Πολιτικής Προστασίας «ΠΥΡΡΑ 2025» και «ΧΕΙΜΕΡΙΟΣ 2025» 
URL:https://mail.radiomemory.gr/events/imerologio-ekdiloseon/event/1948-ask
 iseis-politikis-prostasias-pyrra-2025-kai-xeimerios-2025
END:VEVENT
END:VCALENDAR
