BEGIN:VCALENDAR
VERSION:2.0
PRODID:-//https://mail.radiomemory.gr///NONSGML kigkonsult.se iCalcreator 2.10.15//
METHOD:PUBLISH
BEGIN:VEVENT
UID:20260422T101732UTC-01198BVKZ1@https://mail.radiomemory.gr/
DTSTAMP:20260422T101732Z
DESCRIPTION: https://mail.radiomemory.gr/events/imerologio-ekdiloseon/event
 /1949-xristougenniatiki-giorti-gia-ta-paidia-ton-ergazomenon-kai-anergon
DTSTART:20251218T170000Z
DTEND:20251218T210000Z
LOCATION:Εργατικό Κέντρο Λαμίας (Αθανασίου Διάκου\, Λαμία 351 00\, Ελλάδα)
SUMMARY:Χριστουγεννιάτικη Γιορτή για τα παιδιά των εργαζομένων και ανέργων
URL:https://mail.radiomemory.gr/events/imerologio-ekdiloseon/event/1949-xri
 stougenniatiki-giorti-gia-ta-paidia-ton-ergazomenon-kai-anergon
END:VEVENT
END:VCALENDAR
