BEGIN:VCALENDAR
VERSION:2.0
PRODID:-//https://mail.radiomemory.gr///NONSGML kigkonsult.se iCalcreator 2.10.15//
METHOD:PUBLISH
BEGIN:VEVENT
UID:20260422T070013UTC-2897tZzHSe@https://mail.radiomemory.gr/
DTSTAMP:20260422T070013Z
DESCRIPTION: https://mail.radiomemory.gr/events/imerologio-ekdiloseon/event
 /1950-karnavali-domokoy-2026
DTSTART:20260222T131500Z
DTEND:20260223T170000Z
LOCATION:Δομοκός Φθιώτιδας (Unnamed Road\, Δομοκός 350 10\, Ελλάδα)
SUMMARY:Καρναβάλι Δομοκού 2026
URL:https://mail.radiomemory.gr/events/imerologio-ekdiloseon/event/1950-kar
 navali-domokoy-2026
END:VEVENT
END:VCALENDAR
