BEGIN:VCALENDAR
VERSION:2.0
PRODID:-//https://mail.radiomemory.gr///NONSGML kigkonsult.se iCalcreator 2.10.15//
METHOD:PUBLISH
BEGIN:VEVENT
UID:20260422T083441UTC-9715VXnJOg@https://mail.radiomemory.gr/
DTSTAMP:20260422T083441Z
DESCRIPTION: https://mail.radiomemory.gr/events/imerologio-ekdiloseon/event
 /1951-imerida-me-thema-anaptyksi-poliseon-kai-kerdoforias-gia-mikres-mesai
 es-epixeiriseis
DTSTART:20260218T160000Z
DTEND:20260218T190000Z
LOCATION:Αμφιθέατρο Κτιρίου ΔΕΥΑΛ (Ανδρέα Παπανδρέου & Τάσου Ισαάκ\, Λαμία 
 351 00\, Ελλάδα)
SUMMARY:Ημερίδα με θέμα:«Ανάπτυξη Πωλήσεων και Κερδοφορίας για Μικρές & Μεσ
 αίες Επιχειρήσεις»
URL:https://mail.radiomemory.gr/events/imerologio-ekdiloseon/event/1951-ime
 rida-me-thema-anaptyksi-poliseon-kai-kerdoforias-gia-mikres-mesaies-epixei
 riseis
END:VEVENT
END:VCALENDAR
