BEGIN:VCALENDAR
VERSION:2.0
PRODID:-//https://mail.radiomemory.gr///NONSGML kigkonsult.se iCalcreator 2.10.15//
METHOD:PUBLISH
BEGIN:VEVENT
UID:20260422T082650UTC-7579vP7nN5@https://mail.radiomemory.gr/
DTSTAMP:20260422T082650Z
DESCRIPTION: https://mail.radiomemory.gr/events/imerologio-ekdiloseon/event
 /1952-syllalitirio-gia-ta-tempi
DTSTART:20260228T100000Z
DTEND:20260228T120000Z
LOCATION:Πλατεία Πάρκου Λαμία (Πλατεία Πάρκου 19\, Λαμία 351 00\, Ελλάδα)
SUMMARY:Συλλαλητήριο για τα Τέμπη
URL:https://mail.radiomemory.gr/events/imerologio-ekdiloseon/event/1952-syl
 lalitirio-gia-ta-tempi
END:VEVENT
END:VCALENDAR
