BEGIN:VCALENDAR
VERSION:2.0
PRODID:-//https://mail.radiomemory.gr///NONSGML kigkonsult.se iCalcreator 2.10.15//
METHOD:PUBLISH
BEGIN:VEVENT
UID:20260422T083442UTC-4603zhXe6A@https://mail.radiomemory.gr/
DTSTAMP:20260422T083442Z
DESCRIPTION: https://mail.radiomemory.gr/events/imerologio-ekdiloseon/event
 /1953-enimerotiki-imerida-asfaleia-symmorfosi-stis-epixeiriseis-nomothesia
 -prolipsi-kai-praktikes-efarmoges
DTSTART:20260318T160000Z
DTEND:20260318T190000Z
LOCATION:Αμφιθέατρο Κτιρίου ΔΕΥΑΛ (Ανδρέα Παπανδρέου & Τάσου Ισαάκ\, Λαμία 
 351 00\, Ελλάδα)
SUMMARY:Ενημερωτική Ημερίδα:'Ασφάλεια & Συμμόρφωση στις Επιχειρήσεις: Νομοθ
 εσία\, Πρόληψη και Πρακτικές Εφαρμογές'
URL:https://mail.radiomemory.gr/events/imerologio-ekdiloseon/event/1953-eni
 merotiki-imerida-asfaleia-symmorfosi-stis-epixeiriseis-nomothesia-prolipsi
 -kai-praktikes-efarmoges
END:VEVENT
END:VCALENDAR
