BEGIN:VCALENDAR
VERSION:2.0
PRODID:-//https://mail.radiomemory.gr///NONSGML kigkonsult.se iCalcreator 2.10.15//
METHOD:PUBLISH
BEGIN:VEVENT
UID:20260422T083029UTC-58401piZVl@https://mail.radiomemory.gr/
DTSTAMP:20260422T083029Z
DESCRIPTION: https://mail.radiomemory.gr/events/imerologio-ekdiloseon/event
 /1954-politistiko-gegonos-sta-skalakia
DTSTART:20260327T173000Z
DTEND:20260327T215900Z
LOCATION:Πλατεία Λαού Λαμία ()
SUMMARY:Πολιτιστικό Γεγονός στα 'Σκαλάκια'
URL:https://mail.radiomemory.gr/events/imerologio-ekdiloseon/event/1954-pol
 itistiko-gegonos-sta-skalakia
END:VEVENT
END:VCALENDAR
