BEGIN:VCALENDAR
VERSION:2.0
PRODID:-//https://mail.radiomemory.gr///NONSGML kigkonsult.se iCalcreator 2.10.15//
METHOD:PUBLISH
BEGIN:VEVENT
UID:20260422T082433UTC-9867PlFPZ3@https://mail.radiomemory.gr/
DTSTAMP:20260422T082433Z
DESCRIPTION: https://mail.radiomemory.gr/events/imerologio-ekdiloseon/event
 /1955-panellinio-protathlima-grappling
DTSTART:20260315T080000Z
DTEND:20260315T160000Z
LOCATION:Χαλκιοπούλειο (Αγράφων\, Λαμία 351 00\, Ελλάδα)
SUMMARY:Πανελλήνιο Πρωτάθλημα Grappling
URL:https://mail.radiomemory.gr/events/imerologio-ekdiloseon/event/1955-pan
 ellinio-protathlima-grappling
END:VEVENT
END:VCALENDAR
