BEGIN:VCALENDAR
VERSION:2.0
PRODID:-//https://mail.radiomemory.gr///NONSGML kigkonsult.se iCalcreator 2.10.15//
METHOD:PUBLISH
BEGIN:VEVENT
UID:20260422T071008UTC-3931Vb1itv@https://mail.radiomemory.gr/
DTSTAMP:20260422T071008Z
DESCRIPTION: https://mail.radiomemory.gr/events/imerologio-ekdiloseon/event
 /1956-enimerotiki-imerida-sterea-ellada-ta-texnika-epaggelmata-i-vasi-tou-
 mellontos
DTSTART:20260320T071500Z
DTEND:20260320T130000Z
LOCATION:Πολιτιστικό Κέντρο Δήμου Λαμιέων (Λεωνίδου 9\, Λαμία 351 00\, Ελλά
 δα)
SUMMARY:Ενημερωτική Ημερίδα:'Στερεά Ελλάδα: Τα Τεχνικά Επαγγέλματα\, η βάση
  του μέλλοντος'
URL:https://mail.radiomemory.gr/events/imerologio-ekdiloseon/event/1956-eni
 merotiki-imerida-sterea-ellada-ta-texnika-epaggelmata-i-vasi-tou-mellontos
END:VEVENT
END:VCALENDAR
