BEGIN:VCALENDAR
VERSION:2.0
PRODID:-//https://mail.radiomemory.gr///NONSGML kigkonsult.se iCalcreator 2.10.15//
METHOD:PUBLISH
BEGIN:VEVENT
UID:20260422T070401UTC-1274fSVKnH@https://mail.radiomemory.gr/
DTSTAMP:20260422T070401Z
DESCRIPTION: https://mail.radiomemory.gr/events/imerologio-ekdiloseon/event
 /1957-sterea-ellada-meet-up-ekdilosi-gia-ti-gynaikeia-epixeirimatikotita
DTSTART:20260318T160000Z
DTEND:20260318T200000Z
LOCATION:Ξενοδοχείο Σαμαράς (Αθανασίου Διάκου 14\, Λαμία 351 00\, Ελλάδα)
SUMMARY:«Sterea Ellada Meet-Up»: Εκδήλωση για τη γυναικεία επιχειρηματικότη
 τα
URL:https://mail.radiomemory.gr/events/imerologio-ekdiloseon/event/1957-ste
 rea-ellada-meet-up-ekdilosi-gia-ti-gynaikeia-epixeirimatikotita
END:VEVENT
END:VCALENDAR
